BEGIN:VCALENDAR
VERSION:2.0
PRODID:-//Rockingham Beach Primary Campus - ECPv6.15.20//NONSGML v1.0//EN
CALSCALE:GREGORIAN
METHOD:PUBLISH
X-ORIGINAL-URL:https://rockinghambeachprimarycampus.wa.edu.au/primary
X-WR-CALDESC:Events for Rockingham Beach Primary Campus
REFRESH-INTERVAL;VALUE=DURATION:PT1H
X-Robots-Tag:noindex
X-PUBLISHED-TTL:PT1H
BEGIN:VTIMEZONE
TZID:Asia/Shanghai
BEGIN:STANDARD
TZOFFSETFROM:+0800
TZOFFSETTO:+0800
TZNAME:CST
DTSTART:20250101T000000
END:STANDARD
END:VTIMEZONE
BEGIN:VEVENT
DTSTART;TZID=Asia/Shanghai:20260615T083000
DTEND;TZID=Asia/Shanghai:20260616T093000
DTSTAMP:20260421T140818
CREATED:20260420T031758Z
LAST-MODIFIED:20260420T031758Z
UID:4864-1781512200-1781602200@rockinghambeachprimarycampus.wa.edu.au
SUMMARY:IDance Concerts
DESCRIPTION:Times to be confirmed
URL:https://rockinghambeachprimarycampus.wa.edu.au/primary/event/idance-concerts/
ATTACH;FMTTYPE=:
END:VEVENT
BEGIN:VEVENT
DTSTART;VALUE=DATE:20260619
DTEND;VALUE=DATE:20260620
DTSTAMP:20260421T140818
CREATED:20260420T031906Z
LAST-MODIFIED:20260420T031906Z
UID:4866-1781827200-1781913599@rockinghambeachprimarycampus.wa.edu.au
SUMMARY:RBPS Cross Country Carnival
DESCRIPTION:
URL:https://rockinghambeachprimarycampus.wa.edu.au/primary/event/rbps-cross-country-carnival/
ATTACH;FMTTYPE=:
END:VEVENT
BEGIN:VEVENT
DTSTART;TZID=Asia/Shanghai:20260626T083000
DTEND;TZID=Asia/Shanghai:20260626T093000
DTSTAMP:20260421T140818
CREATED:20260420T031951Z
LAST-MODIFIED:20260420T031951Z
UID:4868-1782462600-1782466200@rockinghambeachprimarycampus.wa.edu.au
SUMMARY:Assembly - EC2
DESCRIPTION:
URL:https://rockinghambeachprimarycampus.wa.edu.au/primary/event/assembly-ec2/
ATTACH;FMTTYPE=:
END:VEVENT
END:VCALENDAR