BEGIN:VCALENDAR
VERSION:2.0
PRODID:-//Rockingham Beach Primary Campus - ECPv6.15.20//NONSGML v1.0//EN
CALSCALE:GREGORIAN
METHOD:PUBLISH
X-ORIGINAL-URL:https://rockinghambeachprimarycampus.wa.edu.au/primary
X-WR-CALDESC:Events for Rockingham Beach Primary Campus
REFRESH-INTERVAL;VALUE=DURATION:PT1H
X-Robots-Tag:noindex
X-PUBLISHED-TTL:PT1H
BEGIN:VTIMEZONE
TZID:Asia/Shanghai
BEGIN:STANDARD
TZOFFSETFROM:+0800
TZOFFSETTO:+0800
TZNAME:CST
DTSTART:20240101T000000
END:STANDARD
END:VTIMEZONE
BEGIN:VEVENT
DTSTART;TZID=Asia/Shanghai:20250509T083000
DTEND;TZID=Asia/Shanghai:20250509T093000
DTSTAMP:20260420T215430
CREATED:20241127T032154Z
LAST-MODIFIED:20241127T032154Z
UID:4347-1746779400-1746783000@rockinghambeachprimarycampus.wa.edu.au
SUMMARY:Assembly - RM14
DESCRIPTION:
URL:https://rockinghambeachprimarycampus.wa.edu.au/primary/event/assembly-rm14/
ATTACH;FMTTYPE=:
END:VEVENT
BEGIN:VEVENT
DTSTART;VALUE=DATE:20250514
DTEND;VALUE=DATE:20250517
DTSTAMP:20260420T215430
CREATED:20241127T032508Z
LAST-MODIFIED:20241127T032508Z
UID:4349-1747180800-1747439999@rockinghambeachprimarycampus.wa.edu.au
SUMMARY:Year 6 Camp
DESCRIPTION:Manjedal Activity Centre (MAC) – Scouts WA
URL:https://rockinghambeachprimarycampus.wa.edu.au/primary/event/year-6-camp/
ATTACH;FMTTYPE=:
END:VEVENT
BEGIN:VEVENT
DTSTART;TZID=Asia/Shanghai:20250523T083000
DTEND;TZID=Asia/Shanghai:20250523T093000
DTSTAMP:20260420T215430
CREATED:20250319T034455Z
LAST-MODIFIED:20250319T034455Z
UID:4394-1747989000-1747992600@rockinghambeachprimarycampus.wa.edu.au
SUMMARY:Assembly - RM16
DESCRIPTION:
URL:https://rockinghambeachprimarycampus.wa.edu.au/primary/event/assembly-rm16/
ATTACH;FMTTYPE=:
END:VEVENT
BEGIN:VEVENT
DTSTART;VALUE=DATE:20250528
DTEND;VALUE=DATE:20250531
DTSTAMP:20260420T215430
CREATED:20250319T034608Z
LAST-MODIFIED:20250319T034608Z
UID:4396-1748390400-1748649599@rockinghambeachprimarycampus.wa.edu.au
SUMMARY:Book Fair
DESCRIPTION:
URL:https://rockinghambeachprimarycampus.wa.edu.au/primary/event/book-fair/
ATTACH;FMTTYPE=:
END:VEVENT
END:VCALENDAR