BEGIN:VCALENDAR
VERSION:2.0
PRODID:-//Rockingham Beach Primary Campus - ECPv6.15.20//NONSGML v1.0//EN
CALSCALE:GREGORIAN
METHOD:PUBLISH
X-ORIGINAL-URL:https://rockinghambeachprimarycampus.wa.edu.au/primary
X-WR-CALDESC:Events for Rockingham Beach Primary Campus
REFRESH-INTERVAL;VALUE=DURATION:PT1H
X-Robots-Tag:noindex
X-PUBLISHED-TTL:PT1H
BEGIN:VTIMEZONE
TZID:Asia/Shanghai
BEGIN:STANDARD
TZOFFSETFROM:+0800
TZOFFSETTO:+0800
TZNAME:CST
DTSTART:20240101T000000
END:STANDARD
END:VTIMEZONE
BEGIN:VEVENT
DTSTART;VALUE=DATE:20250602
DTEND;VALUE=DATE:20250603
DTSTAMP:20260421T034457
CREATED:20250319T034654Z
LAST-MODIFIED:20250319T034654Z
UID:4398-1748822400-1748908799@rockinghambeachprimarycampus.wa.edu.au
SUMMARY:WA Day Public Holiday
DESCRIPTION:
URL:https://rockinghambeachprimarycampus.wa.edu.au/primary/event/wa-day-public-holiday/
ATTACH;FMTTYPE=:
END:VEVENT
BEGIN:VEVENT
DTSTART;TZID=Asia/Shanghai:20250606T083000
DTEND;TZID=Asia/Shanghai:20250606T093000
DTSTAMP:20260421T034457
CREATED:20250319T034807Z
LAST-MODIFIED:20250319T034807Z
UID:4402-1749198600-1749202200@rockinghambeachprimarycampus.wa.edu.au
SUMMARY:Assembly - RM4
DESCRIPTION:
URL:https://rockinghambeachprimarycampus.wa.edu.au/primary/event/assembly-rm4/
ATTACH;FMTTYPE=:
END:VEVENT
BEGIN:VEVENT
DTSTART;VALUE=DATE:20250610
DTEND;VALUE=DATE:20250611
DTSTAMP:20260421T034457
CREATED:20250415T015023Z
LAST-MODIFIED:20250603T053848Z
UID:4447-1749513600-1749599999@rockinghambeachprimarycampus.wa.edu.au
SUMMARY:PBS Values Day - Wheels Day
DESCRIPTION:
URL:https://rockinghambeachprimarycampus.wa.edu.au/primary/event/pbs-values-day-wheels-day/
ATTACH;FMTTYPE=:
END:VEVENT
BEGIN:VEVENT
DTSTART;VALUE=DATE:20250626
DTEND;VALUE=DATE:20250627
DTSTAMP:20260421T034457
CREATED:20250319T034903Z
LAST-MODIFIED:20250326T064038Z
UID:4404-1750896000-1750982399@rockinghambeachprimarycampus.wa.edu.au
SUMMARY:Rassa Winter Carnival
DESCRIPTION:
URL:https://rockinghambeachprimarycampus.wa.edu.au/primary/event/rassa-winter-carnival/
ATTACH;FMTTYPE=:
END:VEVENT
BEGIN:VEVENT
DTSTART;VALUE=DATE:20250630
DTEND;VALUE=DATE:20250705
DTSTAMP:20260421T034457
CREATED:20250319T034942Z
LAST-MODIFIED:20250319T034942Z
UID:4406-1751241600-1751673599@rockinghambeachprimarycampus.wa.edu.au
SUMMARY:NAIDOC Week
DESCRIPTION:
URL:https://rockinghambeachprimarycampus.wa.edu.au/primary/event/naidoc-week/
ATTACH;FMTTYPE=:
END:VEVENT
END:VCALENDAR