BEGIN:VCALENDAR
VERSION:2.0
PRODID:-//Rockingham Beach Primary Campus - ECPv6.15.20//NONSGML v1.0//EN
CALSCALE:GREGORIAN
METHOD:PUBLISH
X-ORIGINAL-URL:https://rockinghambeachprimarycampus.wa.edu.au/primary
X-WR-CALDESC:Events for Rockingham Beach Primary Campus
REFRESH-INTERVAL;VALUE=DURATION:PT1H
X-Robots-Tag:noindex
X-PUBLISHED-TTL:PT1H
BEGIN:VTIMEZONE
TZID:Asia/Shanghai
BEGIN:STANDARD
TZOFFSETFROM:+0800
TZOFFSETTO:+0800
TZNAME:CST
DTSTART:20240101T000000
END:STANDARD
END:VTIMEZONE
BEGIN:VEVENT
DTSTART;TZID=Asia/Shanghai:20250801T083000
DTEND;TZID=Asia/Shanghai:20250801T093000
DTSTAMP:20260421T071009
CREATED:20250728T032811Z
LAST-MODIFIED:20250728T032811Z
UID:4542-1754037000-1754040600@rockinghambeachprimarycampus.wa.edu.au
SUMMARY:Assembly - RM3 & RM13
DESCRIPTION:
URL:https://rockinghambeachprimarycampus.wa.edu.au/primary/event/assembly-rm3-rm13/
ATTACH;FMTTYPE=:
END:VEVENT
BEGIN:VEVENT
DTSTART;VALUE=DATE:20250808
DTEND;VALUE=DATE:20250809
DTSTAMP:20260421T071009
CREATED:20250728T032955Z
LAST-MODIFIED:20250728T032955Z
UID:4544-1754611200-1754697599@rockinghambeachprimarycampus.wa.edu.au
SUMMARY:Rassa Cross Country Carnival
DESCRIPTION:Selected students only
URL:https://rockinghambeachprimarycampus.wa.edu.au/primary/event/rassa-cross-country-carnival/
LOCATION:Larkhill Sporting Complex\, Warnbro Sound Avenue\, Port Kennedy\, Australia
ATTACH;FMTTYPE=:
END:VEVENT
BEGIN:VEVENT
DTSTART;TZID=Asia/Shanghai:20250815T083000
DTEND;TZID=Asia/Shanghai:20250815T093000
DTSTAMP:20260421T071009
CREATED:20250728T033056Z
LAST-MODIFIED:20250728T033056Z
UID:4547-1755246600-1755250200@rockinghambeachprimarycampus.wa.edu.au
SUMMARY:Assembly - RM5
DESCRIPTION:
URL:https://rockinghambeachprimarycampus.wa.edu.au/primary/event/assembly-rm5/
ATTACH;FMTTYPE=:
END:VEVENT
BEGIN:VEVENT
DTSTART;VALUE=DATE:20250818
DTEND;VALUE=DATE:20250823
DTSTAMP:20260421T071009
CREATED:20250728T033143Z
LAST-MODIFIED:20250728T033228Z
UID:4549-1755475200-1755907199@rockinghambeachprimarycampus.wa.edu.au
SUMMARY:Book Week
DESCRIPTION:Dress Up Parade on Monday the 18th August \nAuthor Visit on Friday the 22nd August
URL:https://rockinghambeachprimarycampus.wa.edu.au/primary/event/book-week/
ATTACH;FMTTYPE=:
END:VEVENT
BEGIN:VEVENT
DTSTART;VALUE=DATE:20250826
DTEND;VALUE=DATE:20250827
DTSTAMP:20260421T071009
CREATED:20250728T033419Z
LAST-MODIFIED:20250728T033419Z
UID:4552-1756166400-1756252799@rockinghambeachprimarycampus.wa.edu.au
SUMMARY:Learning Journey Afternoon
DESCRIPTION:Information TBC
URL:https://rockinghambeachprimarycampus.wa.edu.au/primary/event/learning-journey-afternoon/
ATTACH;FMTTYPE=:
END:VEVENT
BEGIN:VEVENT
DTSTART;VALUE=DATE:20250829
DTEND;VALUE=DATE:20250830
DTSTAMP:20260421T071009
CREATED:20250728T033531Z
LAST-MODIFIED:20250728T033531Z
UID:4556-1756425600-1756511999@rockinghambeachprimarycampus.wa.edu.au
SUMMARY:PBS Values Day - Domino Run
DESCRIPTION:
URL:https://rockinghambeachprimarycampus.wa.edu.au/primary/event/pbs-values-day-domino-run/
ATTACH;FMTTYPE=:
END:VEVENT
BEGIN:VEVENT
DTSTART;TZID=Asia/Shanghai:20250829T083000
DTEND;TZID=Asia/Shanghai:20250829T093000
DTSTAMP:20260421T071009
CREATED:20250728T033449Z
LAST-MODIFIED:20250728T033449Z
UID:4554-1756456200-1756459800@rockinghambeachprimarycampus.wa.edu.au
SUMMARY:Assembly - EC1
DESCRIPTION:
URL:https://rockinghambeachprimarycampus.wa.edu.au/primary/event/assembly-ec1/
ATTACH;FMTTYPE=:
END:VEVENT
END:VCALENDAR