BEGIN:VCALENDAR
VERSION:2.0
PRODID:-//Rockingham Beach Primary Campus - ECPv6.15.20//NONSGML v1.0//EN
CALSCALE:GREGORIAN
METHOD:PUBLISH
X-ORIGINAL-URL:https://rockinghambeachprimarycampus.wa.edu.au/primary
X-WR-CALDESC:Events for Rockingham Beach Primary Campus
REFRESH-INTERVAL;VALUE=DURATION:PT1H
X-Robots-Tag:noindex
X-PUBLISHED-TTL:PT1H
BEGIN:VTIMEZONE
TZID:Asia/Shanghai
BEGIN:STANDARD
TZOFFSETFROM:+0800
TZOFFSETTO:+0800
TZNAME:CST
DTSTART:20240101T000000
END:STANDARD
END:VTIMEZONE
BEGIN:VEVENT
DTSTART;VALUE=DATE:20250901
DTEND;VALUE=DATE:20250902
DTSTAMP:20260421T075108
CREATED:20250728T033829Z
LAST-MODIFIED:20250728T033829Z
UID:4560-1756684800-1756771199@rockinghambeachprimarycampus.wa.edu.au
SUMMARY:EA & Support Staff Appreciation Day
DESCRIPTION:
URL:https://rockinghambeachprimarycampus.wa.edu.au/primary/event/ea-support-staff-appreciation-day/
ATTACH;FMTTYPE=:
END:VEVENT
BEGIN:VEVENT
DTSTART;VALUE=DATE:20250911
DTEND;VALUE=DATE:20250912
DTSTAMP:20260421T075108
CREATED:20250728T033637Z
LAST-MODIFIED:20250728T033637Z
UID:4558-1757548800-1757635199@rockinghambeachprimarycampus.wa.edu.au
SUMMARY:R U OK Day
DESCRIPTION:
URL:https://rockinghambeachprimarycampus.wa.edu.au/primary/event/r-u-ok-day/
ATTACH;FMTTYPE=:
END:VEVENT
BEGIN:VEVENT
DTSTART;VALUE=DATE:20250916
DTEND;VALUE=DATE:20250917
DTSTAMP:20260421T075108
CREATED:20240823T003808Z
LAST-MODIFIED:20250728T033919Z
UID:4183-1757980800-1758067199@rockinghambeachprimarycampus.wa.edu.au
SUMMARY:Faction Carnival Jumps
DESCRIPTION:
URL:https://rockinghambeachprimarycampus.wa.edu.au/primary/event/faction-carnivaljumps800m/
ATTACH;FMTTYPE=:
END:VEVENT
BEGIN:VEVENT
DTSTART;VALUE=DATE:20250918
DTEND;VALUE=DATE:20250919
DTSTAMP:20260421T075108
CREATED:20221207T022813Z
LAST-MODIFIED:20250728T034025Z
UID:3852-1758153600-1758239999@rockinghambeachprimarycampus.wa.edu.au
SUMMARY:PP - Yr 6 Faction Athletics Carnival
DESCRIPTION:
URL:https://rockinghambeachprimarycampus.wa.edu.au/primary/event/faction-athletics-carnival-tbc/
ATTACH;FMTTYPE=:
END:VEVENT
BEGIN:VEVENT
DTSTART;VALUE=DATE:20250924
DTEND;VALUE=DATE:20250925
DTSTAMP:20260421T075108
CREATED:20250901T052159Z
LAST-MODIFIED:20250922T062243Z
UID:4608-1758672000-1758758399@rockinghambeachprimarycampus.wa.edu.au
SUMMARY:Kindy Sports Day
DESCRIPTION:On the morning of Wednesday 24th September\, we will be holding our Kindy Sport Day. \nPlease drop your child to their classroom teacher and then make your way to the oval for our running races (don’t worry—they won’t take long!). After the races\, we’ll return to the Early Childhood playground for some fun and games. Each class will rotate through five action-packed stations\, filled with energy and smiles. \nFollowing the games\, we’ll gather together for a picnic morning tea on the grass. \n👉 What to bring: \n\nPicnic rug\nMorning tea\nHats\nDrink bottles\nFamily members who would like to join in!\n\nImportant note for Sealions & Penguins families:\nThis is not a regular Wednesday for Sealions or Penguins attendance. You are warmly invited to come along and join Mrs Heaney for the day’s activities. However\, as this is a non-contact day for Sealions & Penguins children\, an adult must remain with your child at all times. \nWe look forward to a fun morning of races\, games\, and community spirit! \nFrom the Kindy Team.
URL:https://rockinghambeachprimarycampus.wa.edu.au/primary/event/kindy-sports-day/
ATTACH;FMTTYPE=:
END:VEVENT
END:VCALENDAR