BEGIN:VCALENDAR
VERSION:2.0
PRODID:-//Rockingham Beach Primary Campus - ECPv6.15.20//NONSGML v1.0//EN
CALSCALE:GREGORIAN
METHOD:PUBLISH
X-ORIGINAL-URL:https://rockinghambeachprimarycampus.wa.edu.au/primary
X-WR-CALDESC:Events for Rockingham Beach Primary Campus
REFRESH-INTERVAL;VALUE=DURATION:PT1H
X-Robots-Tag:noindex
X-PUBLISHED-TTL:PT1H
BEGIN:VTIMEZONE
TZID:Asia/Shanghai
BEGIN:STANDARD
TZOFFSETFROM:+0800
TZOFFSETTO:+0800
TZNAME:CST
DTSTART:20240101T000000
END:STANDARD
END:VTIMEZONE
BEGIN:VEVENT
DTSTART;TZID=Asia/Shanghai:20251024T083000
DTEND;TZID=Asia/Shanghai:20251024T093000
DTSTAMP:20260421T055935
CREATED:20250922T062459Z
LAST-MODIFIED:20251015T035227Z
UID:4639-1761294600-1761298200@rockinghambeachprimarycampus.wa.edu.au
SUMMARY:Assembly - RM8
DESCRIPTION:
URL:https://rockinghambeachprimarycampus.wa.edu.au/primary/event/assembly-rm11/
ATTACH;FMTTYPE=:
END:VEVENT
BEGIN:VEVENT
DTSTART;TZID=Asia/Shanghai:20251024T083000
DTEND;TZID=Asia/Shanghai:20251024T113000
DTSTAMP:20260421T055935
CREATED:20250922T062727Z
LAST-MODIFIED:20251020T025849Z
UID:4641-1761294600-1761305400@rockinghambeachprimarycampus.wa.edu.au
SUMMARY:Grandparents Day
DESCRIPTION:
URL:https://rockinghambeachprimarycampus.wa.edu.au/primary/event/grandparents-day-2/
ATTACH;FMTTYPE=:
END:VEVENT
BEGIN:VEVENT
DTSTART;VALUE=DATE:20251031
DTEND;VALUE=DATE:20251101
DTSTAMP:20260421T055935
CREATED:20251020T025310Z
LAST-MODIFIED:20251020T030108Z
UID:4701-1761868800-1761955199@rockinghambeachprimarycampus.wa.edu.au
SUMMARY:Teachers Day
DESCRIPTION:
URL:https://rockinghambeachprimarycampus.wa.edu.au/primary/event/teachers-day/
ATTACH;FMTTYPE=:
END:VEVENT
BEGIN:VEVENT
DTSTART;VALUE=DATE:20251031
DTEND;VALUE=DATE:20251101
DTSTAMP:20260421T055935
CREATED:20251020T025024Z
LAST-MODIFIED:20251020T025024Z
UID:4699-1761868800-1761955199@rockinghambeachprimarycampus.wa.edu.au
SUMMARY:2026 Student Leader Application Due
DESCRIPTION:
URL:https://rockinghambeachprimarycampus.wa.edu.au/primary/event/2026-student-leader-application-due/
ATTACH;FMTTYPE=:
END:VEVENT
BEGIN:VEVENT
DTSTART;TZID=Asia/Shanghai:20251031T083000
DTEND;TZID=Asia/Shanghai:20251031T153000
DTSTAMP:20260421T055935
CREATED:20250922T063505Z
LAST-MODIFIED:20250922T063505Z
UID:4643-1761899400-1761924600@rockinghambeachprimarycampus.wa.edu.au
SUMMARY:P & C Crazy Hair Day
DESCRIPTION:
URL:https://rockinghambeachprimarycampus.wa.edu.au/primary/event/p-c-crazy-hair-day/
ATTACH;FMTTYPE=:
END:VEVENT
END:VCALENDAR