BEGIN:VCALENDAR
VERSION:2.0
PRODID:-//Rockingham Beach Primary Campus - ECPv6.15.20//NONSGML v1.0//EN
CALSCALE:GREGORIAN
METHOD:PUBLISH
X-ORIGINAL-URL:https://rockinghambeachprimarycampus.wa.edu.au/primary
X-WR-CALDESC:Events for Rockingham Beach Primary Campus
REFRESH-INTERVAL;VALUE=DURATION:PT1H
X-Robots-Tag:noindex
X-PUBLISHED-TTL:PT1H
BEGIN:VTIMEZONE
TZID:Asia/Shanghai
BEGIN:STANDARD
TZOFFSETFROM:+0800
TZOFFSETTO:+0800
TZNAME:CST
DTSTART:20240101T000000
END:STANDARD
END:VTIMEZONE
BEGIN:VEVENT
DTSTART;VALUE=DATE:20251107
DTEND;VALUE=DATE:20251108
DTSTAMP:20260421T042421
CREATED:20250922T063944Z
LAST-MODIFIED:20251020T030448Z
UID:4649-1762473600-1762559999@rockinghambeachprimarycampus.wa.edu.au
SUMMARY:Rassa Interschool Athletics Carnival
DESCRIPTION:
URL:https://rockinghambeachprimarycampus.wa.edu.au/primary/event/rassa-interschool-athletics-carnival/
LOCATION:Hourglass Reserve\, Murchison Road Cooloongup\, Western Australia\, 6168\, Australia
ATTACH;FMTTYPE=:
END:VEVENT
BEGIN:VEVENT
DTSTART;TZID=Asia/Shanghai:20251107T083000
DTEND;TZID=Asia/Shanghai:20251107T093000
DTSTAMP:20260421T042421
CREATED:20250922T063713Z
LAST-MODIFIED:20251015T034933Z
UID:4645-1762504200-1762507800@rockinghambeachprimarycampus.wa.edu.au
SUMMARY:Assembly - EC2 & RM11
DESCRIPTION:
URL:https://rockinghambeachprimarycampus.wa.edu.au/primary/event/assembly-ec2-rm8/
ATTACH;FMTTYPE=:
END:VEVENT
BEGIN:VEVENT
DTSTART;VALUE=DATE:20251114
DTEND;VALUE=DATE:20251115
DTSTAMP:20260421T042421
CREATED:20240823T003544Z
LAST-MODIFIED:20251020T024912Z
UID:4181-1763078400-1763164799@rockinghambeachprimarycampus.wa.edu.au
SUMMARY:2026 Student Leader Elections
DESCRIPTION:
URL:https://rockinghambeachprimarycampus.wa.edu.au/primary/event/studentleaderelections/
ATTACH;FMTTYPE=:
END:VEVENT
BEGIN:VEVENT
DTSTART;VALUE=DATE:20251119
DTEND;VALUE=DATE:20251120
DTSTAMP:20260421T042421
CREATED:20240823T002400Z
LAST-MODIFIED:20251020T024551Z
UID:4169-1763510400-1763596799@rockinghambeachprimarycampus.wa.edu.au
SUMMARY:2026 Kindy Information Session
DESCRIPTION:
URL:https://rockinghambeachprimarycampus.wa.edu.au/primary/event/2025kindyinfosession/
ATTACH;FMTTYPE=:
END:VEVENT
BEGIN:VEVENT
DTSTART;VALUE=DATE:20251121
DTEND;VALUE=DATE:20251122
DTSTAMP:20260421T042421
CREATED:20251020T024750Z
LAST-MODIFIED:20251020T024809Z
UID:4696-1763683200-1763769599@rockinghambeachprimarycampus.wa.edu.au
SUMMARY:Year 6 High School Transition Day
DESCRIPTION:
URL:https://rockinghambeachprimarycampus.wa.edu.au/primary/event/year-6-high-school-transition-day/
ATTACH;FMTTYPE=:
END:VEVENT
BEGIN:VEVENT
DTSTART;TZID=Asia/Shanghai:20251121T083000
DTEND;TZID=Asia/Shanghai:20251121T093000
DTSTAMP:20260421T042421
CREATED:20250922T063803Z
LAST-MODIFIED:20250922T063803Z
UID:4647-1763713800-1763717400@rockinghambeachprimarycampus.wa.edu.au
SUMMARY:Assembly - EC7 & RM12
DESCRIPTION:
URL:https://rockinghambeachprimarycampus.wa.edu.au/primary/event/assembly-ec7-rm12/
ATTACH;FMTTYPE=:
END:VEVENT
BEGIN:VEVENT
DTSTART;VALUE=DATE:20251126
DTEND;VALUE=DATE:20251127
DTSTAMP:20260421T042421
CREATED:20240823T003111Z
LAST-MODIFIED:20251020T024434Z
UID:4175-1764115200-1764201599@rockinghambeachprimarycampus.wa.edu.au
SUMMARY:2026 Kindy Activity Session & Teddy bears picnic
DESCRIPTION:
URL:https://rockinghambeachprimarycampus.wa.edu.au/primary/event/2025-kindy-activitysessionteddybearspicnic/
ATTACH;FMTTYPE=:
END:VEVENT
BEGIN:VEVENT
DTSTART;VALUE=DATE:20251128
DTEND;VALUE=DATE:20251129
DTSTAMP:20260421T042421
CREATED:20251020T024337Z
LAST-MODIFIED:20251020T024337Z
UID:4691-1764288000-1764374399@rockinghambeachprimarycampus.wa.edu.au
SUMMARY:PBS Values Day - Students v Teachers
DESCRIPTION:
URL:https://rockinghambeachprimarycampus.wa.edu.au/primary/event/pbs-values-day-students-v-teachers/
ATTACH;FMTTYPE=:
END:VEVENT
END:VCALENDAR